BEGIN:VCALENDAR
VERSION:2.0
PRODID: -//CMS 5.0 //NONSGML //DE
BEGIN:VEVENT
SUMMARY:Gottesdienst  vor Ort und mit YouTube Übertragung 
DESCRIPTION:Unsere Gemeinde strahlt die Sonntagsgottesdienste über YouT
 ube aus.\n\nSeien Sie herzlich willkommen !\n\nZugang zum Online-Gottes
 dienst\n\n\n\nhttps://hamburg-alstertal.nak-nordost.de/db/600205
UID:600205@hamburg-alstertal.nak-nordost.de
LOCATION:
CATEGORIES:Gottesdienst
X-ORGANIZER:
STATUS:CONFIRMED
CLASS:PUBLIC
DTSTART:20260510T080000Z
DTEND:20260510T090000Z
DTSTAMP:20260421T140723Z
CREATED:20260411T122751Z
LAST-MODIFIED:20260411T122841Z
BEGIN:VALARM
UID:6B938ECA-3D8B-11F1-B014-E4B55B29324C
TRIGGER:-PT60M
ACTION:DISPLAY
DESCRIPTION:SUMMARY:Gottesdienst  vor Ort und mit YouTube Übertragung 
END:VALARM
END:VEVENT
END:VCALENDAR
